BEGIN:VCALENDAR
VERSION:2.0
PRODID:-//hacksw/handcal//NONSGML v1.0//EN
BEGIN:VEVENT
DTSTART:20260523T130000
DTEND:20260523T230000
LOCATION:Vive les Groues \n290, Rue de la Garenne \n92000 NANTERRE
ORGANIZER;CN=Julia CVETKOVSKI:MAILTO:julia.cvetkovski@devinci.fr
SUMMARY:Musique Mix | Purple Fest – 1ʳᵉ édition
DESCRIPTION:\nFestival de musique made in Pôle Léonard de Vinci ! 🎶\nMusique Mix, l'asso de musique du Pôle, créée en 2001, organise la première édition de son festival Purple Fest ! 🔥 9 groupes live🎧 10 DJs🌿 2...
URL:https://alumni.devinci.fr/fr/event/musique-mix-purple-fest-1-edition/2026/05/23/460
BEGIN:VALARM
TRIGGER:-P0DT1H0M0S
ACTION:DISPLAY
END:VALARM
END:VEVENT
END:VCALENDAR