BEGIN:VCALENDAR
VERSION:2.0
PRODID:-//hacksw/handcal//NONSGML v1.0//EN
BEGIN:VEVENT
DTSTART:20260527T090000
DTEND:20260527T160000
LOCATION:Campus Cyber \n5, Rue Bellini \n92800 PUTEAUX
ORGANIZER;CN=Julia CVETKOVSKI:MAILTO:julia.cvetkovski@devinci.fr
SUMMARY:Emploi | Cyber Job Dating
DESCRIPTION:\nLe Campus Cyber vous donne rendez-vous pour le Cyber Job Dating 2026 !Un événement pensé pour aller à l’essentiel : rencontrer les bons interlocuteurs, au bon moment.\n📅 Mercredi 27 mai 2026 de 9h à...
URL:https://alumni.devinci.fr/fr/event/emploi-cyber-job-dating/2026/05/27/457
BEGIN:VALARM
TRIGGER:-P0DT1H0M0S
ACTION:DISPLAY
END:VALARM
END:VEVENT
END:VCALENDAR