BEGIN:VCALENDAR
VERSION:2.0
PRODID:-//hacksw/handcal//NONSGML v1.0//EN
BEGIN:VEVENT
DTSTART:20260603T170000
DTEND:20260603T203000
LOCATION:Campus de Nantes \n9, Rue Alfred Kastler \n44300 NANTES
ORGANIZER;CN=Julia CVETKOVSKI:MAILTO:julia.cvetkovski@devinci.fr
SUMMARY:Journée Portes Ouvertes à Nantes : le campus vous ouvre ses portes !
DESCRIPTION:\nÀ l’occasion de la Journée Portes Ouvertes de notre campus de Nantes, nous invitons les Alumni aujourd’hui installés dans la région à venir partager leurs expériences — professionnelles, étudiantes…...
URL:https://alumni.devinci.fr/fr/event/journee-portes-ouvertes-a-nantes-le-campus-vous-ouvre-ses-portes/2026/06/03/451
BEGIN:VALARM
TRIGGER:-P0DT1H0M0S
ACTION:DISPLAY
END:VALARM
END:VEVENT
END:VCALENDAR