BEGIN:VCALENDAR
VERSION:2.0
PRODID:-//hacksw/handcal//NONSGML v1.0//EN
BEGIN:VEVENT
DTSTART:20260618T183000
DTEND:20260618T210000
LOCATION:Halles de L’Île  \n1, Place de l'Ile \n1204 GENEVE
ORGANIZER;CN=Julia CVETKOVSKI:MAILTO:julia.cvetkovski@devinci.fr
SUMMARY:Afterwork | Genève, Suisse
DESCRIPTION:\nCap sur Genève… et cap sur la victoire ! ⚽️Entre lac et montagnes, art de vivre à la suisse… et ferveur footballistique, notre afterwork suisse s’annonce encore plus festif que d’habitude !Cette...
URL:https://alumni.devinci.fr/fr/event/afterwork-geneve-suisse/2026/06/18/417
BEGIN:VALARM
TRIGGER:-P0DT1H0M0S
ACTION:DISPLAY
END:VALARM
END:VEVENT
END:VCALENDAR