BEGIN:VCALENDAR
VERSION:2.0
PRODID:-//hacksw/handcal//NONSGML v1.0//EN
BEGIN:VEVENT
DTSTART:20260521T183000
DTEND:20260521T210000
LOCATION:Lord Aberconway \n72, Old Broad Street \nEC2M 1QT LONDON
ORGANIZER;CN=Julia CVETKOVSKI:MAILTO:julia.cvetkovski@devinci.fr
SUMMARY:Afterwork | Londres, Royaume-Uni
DESCRIPTION:God save the afterwork!Comme chaque année, notre rendez-vous londonien entre diplômés est de retour... Save the date!📅 Jeudi 21 mai 2026 🕕 18h30📍 Lord Aberconway, 72, Old Broad Street EC2M 1QT...
URL:https://alumni.devinci.fr/fr/event/afterwork-londres-royaume-uni/2026/05/21/416
BEGIN:VALARM
TRIGGER:-P0DT1H0M0S
ACTION:DISPLAY
END:VALARM
END:VEVENT
END:VCALENDAR