BEGIN:VCALENDAR
VERSION:2.0
PRODID:-//hacksw/handcal//NONSGML v1.0//EN
BEGIN:VEVENT
DTSTART:20260219T093000
DTEND:20260219T170000
LOCATION:Pôle Léonard de Vinci \n12, Avenue Léonard de Vinci \n92400 COURBEVOIE
ORGANIZER;CN=Julia CVETKOVSKI:MAILTO:julia.cvetkovski@devinci.fr
SUMMARY:Comité de Perfectionnement EMLV + I Pitch & Meet
DESCRIPTION:\nCette année encore, les entreprises partenaires et les Alumni se mobilisent les étudiants internationaux : rendez-vous pour un temps fort de rencontres et d’échanges !\n→  Nous vous proposons de...
URL:https://alumni.devinci.fr/fr/event/comite-de-perfectionnement-emlv-i-pitch-meet/2026/02/19/414
BEGIN:VALARM
TRIGGER:-P0DT1H0M0S
ACTION:DISPLAY
END:VALARM
END:VEVENT
END:VCALENDAR