BEGIN:VCALENDAR
VERSION:2.0
PRODID:-//hacksw/handcal//NONSGML v1.0//EN
BEGIN:VEVENT
DTSTART:20260523T130000
DTEND:20260523T230000
LOCATION:Vive les Groues \n290, Rue de la Garenne \n92000 NANTERRE
ORGANIZER;CN=Julia CVETKOVSKI:MAILTO:julia.cvetkovski@devinci.fr
SUMMARY:Music Mix | Purple Fest – 1st Edition
DESCRIPTION:A music festival brought to you by Pôle Léonard de Vinci! 🎶\nMusique Mix, the Pôle’s music association, founded in 2001, is organizing the first edition of its Purple Fest! 🔥 9 live bands🎧 10 DJs🌿 2...
URL:https://alumni.devinci.fr/en/event/music-mix-purple-fest-1st-edition/2026/05/23/460
BEGIN:VALARM
TRIGGER:-P0DT1H0M0S
ACTION:DISPLAY
END:VALARM
END:VEVENT
END:VCALENDAR