BEGIN:VCALENDAR
VERSION:2.0
PRODID:-//hacksw/handcal//NONSGML v1.0//EN
BEGIN:VEVENT
DTSTART:20260531T000500
DTEND:20260531T235500
LOCATION:
ORGANIZER;CN=Julia CVETKOVSKI:MAILTO:julia.cvetkovski@devinci.fr
SUMMARY:Take the TASK™ certification exam for free
DESCRIPTION:Dear graduates,We are delighted to offer you an acess to TASK™ (The Assessment of Sustainability Knowledge) free of charge.\nWould you like to participate?\nActivate your Alumni account: hereRegister ...
URL:https://alumni.devinci.fr/en/event/take-the-task-certification-exam-for-free/2026/05/31/458
BEGIN:VALARM
TRIGGER:-P0DT1H0M0S
ACTION:DISPLAY
END:VALARM
END:VEVENT
END:VCALENDAR