BEGIN:VCALENDAR
VERSION:2.0
PRODID:-//hacksw/handcal//NONSGML v1.0//EN
BEGIN:VEVENT
DTSTART:20260527T090000
DTEND:20260527T160000
LOCATION:Campus Cyber \n5, Rue Bellini \n92800 PUTEAUX
ORGANIZER;CN=Julia CVETKOVSKI:MAILTO:julia.cvetkovski@devinci.fr
SUMMARY:Jobs | Cyber Job Dating
DESCRIPTION:Campus Cyber invites you to Cyber Job Dating 2026!An event designed to get straight to the point: meeting the right people at the right time.\n📅 Wednesday, May 27, 2026, from 9 a.m. to 4 p.m.📍 Campus ...
URL:https://alumni.devinci.fr/en/event/jobs-cyber-job-dating/2026/05/27/457
BEGIN:VALARM
TRIGGER:-P0DT1H0M0S
ACTION:DISPLAY
END:VALARM
END:VEVENT
END:VCALENDAR