BEGIN:VCALENDAR
VERSION:2.0
PRODID:-//hacksw/handcal//NONSGML v1.0//EN
BEGIN:VEVENT
DTSTART:20260602T173000
DTEND:20260602T210000
LOCATION:Bisou Bisou \n416, Rue Saint-Vincent \nH2Y 1E6 MONTREAL
ORGANIZER;CN=Julia CVETKOVSKI:MAILTO:julia.cvetkovski@devinci.fr
SUMMARY:Afterwork | Montréal, Canada
DESCRIPTION:In 2026, the Alumni Network hits Montreal!\nWant to meet other graduates in your area, expand your network, or just have a good time after work? Look no further—we’ve got the perfect event for...
URL:https://alumni.devinci.fr/en/event/afterwork-montreal-canada/2026/06/02/452
BEGIN:VALARM
TRIGGER:-P0DT1H0M0S
ACTION:DISPLAY
END:VALARM
END:VEVENT
END:VCALENDAR