BEGIN:VCALENDAR
VERSION:2.0
PRODID:-//hacksw/handcal//NONSGML v1.0//EN
BEGIN:VEVENT
DTSTART:20260319T190000
DTEND:20260319T213000
LOCATION:Wavestone \n100-101, Terrasse Boieldieu \n92800 PARIS
ORGANIZER;CN=Julia CVETKOVSKI:MAILTO:julia.cvetkovski@devinci.fr
SUMMARY:Afterwork | Cyber-Resilience: The modern challenges of digital sovereignty
DESCRIPTION:\nThe modern challenges of digital sovereignty concern a state's ability to control its infrastructure, data, and strategic technologies. In the era of cloud computing, artificial intelligence, and...
URL:https://alumni.devinci.fr/en/event/afterwork-cyber-resilience-the-modern-challenges-of-digital-sovereignty/2026/03/19/436
BEGIN:VALARM
TRIGGER:-P0DT1H0M0S
ACTION:DISPLAY
END:VALARM
END:VEVENT
END:VCALENDAR