BEGIN:VCALENDAR
VERSION:2.0
PRODID:-//hacksw/handcal//NONSGML v1.0//EN
BEGIN:VEVENT
DTSTART:20260326T090000
DTEND:20260326T160000
LOCATION:Pôle Léonard de Vinci \n12, Avenue Léonard de Vinci \n92400 COURBEVOIE
ORGANIZER;CN=Solveig DEBRAY SANDELIN:MAILTO:solveig.debray_sandelin@devinci.fr
SUMMARY:De Vinci Festival | Research, Innovation, and Entrepreneurship for a Shared Future
DESCRIPTION:De Vinci Festival 2026 – Discover the programme for March 26 & 27On March 26 and 27, De Vinci Festival 2026 will bring our community together around a shared theme: Common Futures.\n👉 Register now:...
URL:https://alumni.devinci.fr/en/event/de-vinci-festival-research-innovation-and-entrepreneurship-for-a-shared-future/2026/03/26/386
BEGIN:VALARM
TRIGGER:-P0DT1H0M0S
ACTION:DISPLAY
END:VALARM
END:VEVENT
END:VCALENDAR