BEGIN:VCALENDAR
VERSION:2.0
PRODID:-//hacksw/handcal//NONSGML v1.0//EN
BEGIN:VEVENT
DTSTART:20260203T180000
DTEND:20260203T203000
LOCATION:La Grande Arche \n1, Parvis de la Défense \n92800 PUTEAUX
ORGANIZER;CN=Solveig DEBRAY SANDELIN:MAILTO:solveig.debray_sandelin@devinci.fr
SUMMARY:Afterwork | I Meet my Mentor!
DESCRIPTION:Have you signed up for the Graduate-Student Mentoring Program?We are delighted to invite you to participate in a dedicated networking event!\nWhy attend?This event is an opportunity to meet your...
URL:https://alumni.devinci.fr/en/event/afterwork-i-meet-my-mentor/2026/02/03/378
BEGIN:VALARM
TRIGGER:-P0DT1H0M0S
ACTION:DISPLAY
END:VALARM
END:VEVENT
END:VCALENDAR