BEGIN:VCALENDAR
VERSION:2.0
PRODID:-//hacksw/handcal//NONSGML v1.0//EN
BEGIN:VEVENT
DTSTART:20260326T114500
DTEND:20260326T124500
LOCATION:Pôle Léonard de Vinci \n12, Avenue Léonard de Vinci \n92400 COURBEVOIE
ORGANIZER;CN=Julia CVETKOVSKI:MAILTO:julia.cvetkovski@devinci.fr
SUMMARY:De Vinci Festival | Pitch Competition
DESCRIPTION:Attend the De Vinci Festival Pitch Competition and help reward the most promising projects with your evaluations!A pre-selected group of student startups will be invited on stage to showcase the...
URL:https://alumni.devinci.fr/en/event/de-vinci-festival-pitch-competition/2026/03/26/161
BEGIN:VALARM
TRIGGER:-P0DT1H0M0S
ACTION:DISPLAY
END:VALARM
END:VEVENT
END:VCALENDAR